BEGIN:VCALENDAR
VERSION:2.0
PRODID:GlueUp
CALSCALE:GREGORIAN
BEGIN:VTIMEZONE
TZID:UTC
BEGIN:STANDARD
DTSTART:19700101T000000
TZOFFSETFROM:+0000
TZOFFSETTO:+0000
TZNAME:UTC
END:STANDARD
END:VTIMEZONE
BEGIN:VEVENT
TZ:+00
ORGANIZER;CN=Мелёхина Юлия Владимировна:MAILTO:julia@medsestre.ru
UID:1304-1777173979@https://app.glueup.ru
DTSTAMP:20260426T032619Z
DTSTART:20210414T143000Z
DTEND:20210414T171500Z
SUMMARY:Вебинар "Иммунитет ребенка и тревожность родителей с точки зрения психолога и педиатра. Что нужно знать медицинской сестре"
DESCRIPTION:"Вебинар "Иммунитет ребенка и тревожность родителей с точки зрения психолога и педиатра. Что нужно знать медицинской сестре"" организовано "Общероссийская общественная организация "Ассоциация медицинских сестер России""\n\nАпр 14 2021 (17:30 - 20:15)(GMT+3)\n\nДля получения дополнительной информации нажмите здесь: https://app.glueup.ru/my/events/1304
LOCATION:ОНЛАЙН - Webinar.ru Санкт-Петербург - Российская Федерация
BEGIN:VALARM
TRIGGER:-PT48H
REPEAT:4
DURATION:PT30M
ACTION:DISPLAY
END:VALARM
END:VEVENT
END:VCALENDAR