BEGIN:VCALENDAR
VERSION:2.0
PRODID:GlueUp
CALSCALE:GREGORIAN
BEGIN:VTIMEZONE
TZID:UTC
BEGIN:STANDARD
DTSTART:19700101T000000
TZOFFSETFROM:+0000
TZOFFSETTO:+0000
TZNAME:UTC
END:STANDARD
END:VTIMEZONE
BEGIN:VEVENT
TZ:+00
ORGANIZER;CN=Юрина Марина Леонидовна:MAILTO:marina@assocleasing.ru
UID:5307-1776922354@https://app.glueup.ru
DTSTAMP:20260423T053234Z
DTSTART:20260521T130000Z
DTEND:20260522T180000Z
SUMMARY:15-й ежегодный Съезд Лизинговой Отрасли России
DESCRIPTION:"15-й ежегодный Съезд Лизинговой Отрасли России" организовано "Объединенная Лизинговая Ассоциация"\n\nМай 21 - 22, 2026(GMT+3)\n\nДля получения дополнительной информации нажмите здесь: https://app.glueup.ru/my/events/5307
LOCATION:Коринтия Санкт-Петербург - Невский проспект 57 Санкт-Петербург - Российская Федерация
BEGIN:VALARM
TRIGGER:-PT48H
REPEAT:4
DURATION:PT30M
ACTION:DISPLAY
END:VALARM
END:VEVENT
END:VCALENDAR