BEGIN:VCALENDAR
VERSION:2.0
PRODID:GlueUp
CALSCALE:GREGORIAN
BEGIN:VTIMEZONE
TZID:UTC
BEGIN:STANDARD
DTSTART:19700101T000000
TZOFFSETFROM:+0000
TZOFFSETTO:+0000
TZNAME:UTC
END:STANDARD
END:VTIMEZONE
BEGIN:VEVENT
TZ:+00
ORGANIZER;CN=Байдикова Любовь Анатольевна:MAILTO:lubascha.1970@yandex.ru
UID:1928-1776962222@https://app.glueup.ru
DTSTAMP:20260423T163702Z
DTSTART:20211214T070000Z
DTEND:20211214T112000Z
SUMMARY:НПК "Просто о сложном…Актуальные вопросы практической деятельности фельдшера скорой медицинской помощи"
DESCRIPTION:"НПК "Просто о сложном…Актуальные вопросы практической деятельности фельдшера скорой медицинской помощи"" организовано "РАМС-Брянская область"\n\nДек 14 2021 (10:00 - 14:20)(GMT+3)\n\nДля получения дополнительной информации нажмите здесь: https://app.glueup.ru/my/events/1928
LOCATION:
BEGIN:VALARM
TRIGGER:-PT48H
REPEAT:4
DURATION:PT30M
ACTION:DISPLAY
END:VALARM
END:VEVENT
END:VCALENDAR