BEGIN:VCALENDAR
VERSION:2.0
PRODID:GlueUp
CALSCALE:GREGORIAN
BEGIN:VTIMEZONE
TZID:UTC
BEGIN:STANDARD
DTSTART:19700101T000000
TZOFFSETFROM:+0000
TZOFFSETTO:+0000
TZNAME:UTC
END:STANDARD
END:VTIMEZONE
BEGIN:VEVENT
TZ:+00
ORGANIZER;CN=Мелёхина Юлия Владимировна:MAILTO:julia@medsestre.ru
UID:2097-1776605933@https://app.glueup.ru
DTSTAMP:20260419T133853Z
DTSTART:20220516T120000Z
DTEND:20220516T150000Z
SUMMARY:Вебинар «Паллиативная медицинская и хосписная помощь в России. Особенности паллиативной помощи пациентам с онкологическими заболеваниями»
DESCRIPTION:"Вебинар «Паллиативная медицинская и хосписная помощь в России. Особенности паллиативной помощи пациентам с онкологическими заболеваниями»" организовано "Общероссийская общественная организация "Ассоциация медицинских сестер России""\n\nМай 16 2022 (15:00 - 18:00)(GMT+3)\n\nДля получения дополнительной информации нажмите здесь: https://app.glueup.ru/my/events/2097
LOCATION:ОНЛАЙН - Webinar.ru Санкт-Петербург - Российская Федерация
BEGIN:VALARM
TRIGGER:-PT48H
REPEAT:4
DURATION:PT30M
ACTION:DISPLAY
END:VALARM
END:VEVENT
END:VCALENDAR