BEGIN:VCALENDAR
VERSION:2.0
PRODID:GlueUp
CALSCALE:GREGORIAN
BEGIN:VTIMEZONE
TZID:UTC
BEGIN:STANDARD
DTSTART:19700101T000000
TZOFFSETFROM:+0000
TZOFFSETTO:+0000
TZNAME:UTC
END:STANDARD
END:VTIMEZONE
BEGIN:VEVENT
TZ:+00
ORGANIZER;CN=Deleted User:MAILTO:user-198525@glueupuserdeleted.com
UID:2100-1776775533@https://app.glueup.ru
DTSTAMP:20260421T124533Z
DTSTART:20220522T124000Z
DTEND:20220522T161500Z
SUMMARY:Онлайн-семинар «Аддиктивное поведение, этапы. Виды зависимостей и особенности работы, направленной на профилактику употребления психоактивных веществ среди населения, в том числе в подростковой среде»
DESCRIPTION:"Онлайн-семинар «Аддиктивное поведение, этапы. Виды зависимостей и особенности работы, направленной на профилактику употребления психоактивных веществ среди населения, в том числе в подростковой среде»" организовано "РАМС-Кировская область"\n\nМай 22 2022\n3:40 PM - 7:15 PM(GMT+3)\n\nДля получения дополнительной информации и для участия в мероприятии онлайн, нажмите здесь: \n\nEvent Website: https://app.glueup.ru/my/events/2100\n\nEvent Link: https://app.glueup.ru/event/2100/
LOCATION:https://app.glueup.ru/event/2100/
BEGIN:VALARM
TRIGGER:-PT1H
REPEAT:4
DURATION:PT15M
ACTION:DISPLAY
END:VALARM
END:VEVENT
END:VCALENDAR