BEGIN:VCALENDAR
VERSION:2.0
PRODID:GlueUp
CALSCALE:GREGORIAN
BEGIN:VTIMEZONE
TZID:UTC
BEGIN:STANDARD
DTSTART:19700101T000000
TZOFFSETFROM:+0000
TZOFFSETTO:+0000
TZNAME:UTC
END:STANDARD
END:VTIMEZONE
BEGIN:VEVENT
TZ:+00
ORGANIZER;CN=Калинина Ирина Геннадиевна:MAILTO:roomsmsk19@gmail.com
UID:2683-1776653452@https://app.glueup.ru
DTSTAMP:20260420T025052Z
DTSTART:20221112T080000Z
DTEND:20221112T100000Z
SUMMARY:Круглый стол "Необходимость перемен в специальности медицинских сестёр стоматологии как крайняя мера"
DESCRIPTION:"Круглый стол "Необходимость перемен в специальности медицинских сестёр стоматологии как крайняя мера"" организовано "Региональная общественная организация медицинских сестер, г. Москва"\n\nНоя 12 2022 (11:00 - 13:00)(GMT+3)\n\nДля получения дополнительной информации нажмите здесь: https://app.glueup.ru/my/events/2683
LOCATION:ОНЛАЙН - webinar.ru Москва
BEGIN:VALARM
TRIGGER:-PT48H
REPEAT:4
DURATION:PT30M
ACTION:DISPLAY
END:VALARM
END:VEVENT
END:VCALENDAR