BEGIN:VCALENDAR
VERSION:2.0
PRODID:GlueUp
CALSCALE:GREGORIAN
BEGIN:VTIMEZONE
TZID:UTC
BEGIN:STANDARD
DTSTART:19700101T000000
TZOFFSETFROM:+0000
TZOFFSETTO:+0000
TZNAME:UTC
END:STANDARD
END:VTIMEZONE
BEGIN:VEVENT
TZ:+00
ORGANIZER;CN=Никитина Нина Валентиновна:MAILTO:nikit.nv@yandex.ru
UID:2923-1776691159@https://app.glueup.ru
DTSTAMP:20260420T131919Z
DTSTART:20230302T070000Z
DTEND:20230303T130000Z
SUMMARY:Научно-практическая конференция «Ключевые вопросы санитарно-эпидемиологического режима»
DESCRIPTION:"Научно-практическая конференция «Ключевые вопросы санитарно-эпидемиологического режима»" организовано "Вологодская региональная общественная организация  «Ассоциация специалистов сестринского дела»"\n\nМар 2 - 3, 2023(GMT+3)\n\nДля получения дополнительной информации нажмите здесь: https://app.glueup.ru/my/events/2923
LOCATION:ул. Герцена, 27 - Вологда - Вологодская область - Российская Федерация
BEGIN:VALARM
TRIGGER:-PT48H
REPEAT:4
DURATION:PT30M
ACTION:DISPLAY
END:VALARM
END:VEVENT
END:VCALENDAR