BEGIN:VCALENDAR
VERSION:2.0
PRODID:GlueUp
CALSCALE:GREGORIAN
BEGIN:VTIMEZONE
TZID:UTC
BEGIN:STANDARD
DTSTART:19700101T000000
TZOFFSETFROM:+0000
TZOFFSETTO:+0000
TZNAME:UTC
END:STANDARD
END:VTIMEZONE
BEGIN:VEVENT
TZ:+00
ORGANIZER;CN=Мелёхина Юлия Владимировна:MAILTO:julia@medsestre.ru
UID:3010-1776695767@https://app.glueup.ru
DTSTAMP:20260420T143607Z
DTSTART:20230412T110000Z
DTEND:20230412T130000Z
SUMMARY:Онлайн семинар "Важные аспекты в организации деятельности клинико-диагностической лаборатории"
DESCRIPTION:"Онлайн семинар "Важные аспекты в организации деятельности клинико-диагностической лаборатории"" организовано "Общероссийская общественная организация "Ассоциация медицинских сестер России""\n\nАпр 12 2023 (14:00 - 16:00)(GMT+3)\n\nДля получения дополнительной информации нажмите здесь: https://app.glueup.ru/my/events/3010
LOCATION:ОНЛАЙН - Webinar.ru Санкт-Петербург - Российская Федерация
BEGIN:VALARM
TRIGGER:-PT48H
REPEAT:4
DURATION:PT30M
ACTION:DISPLAY
END:VALARM
END:VEVENT
END:VCALENDAR