BEGIN:VCALENDAR
VERSION:2.0
PRODID:GlueUp
CALSCALE:GREGORIAN
BEGIN:VTIMEZONE
TZID:UTC
BEGIN:STANDARD
DTSTART:19700101T000000
TZOFFSETFROM:+0000
TZOFFSETTO:+0000
TZNAME:UTC
END:STANDARD
END:VTIMEZONE
BEGIN:VEVENT
TZ:+00
ORGANIZER;CN=Мелёхина Юлия Владимировна:MAILTO:julia@medsestre.ru
UID:3097-1776922647@https://app.glueup.ru
DTSTAMP:20260423T053727Z
DTSTART:20230328T060000Z
DTEND:20230328T101500Z
SUMMARY:Роль медицинских сестер операционного блока в обеспечении оперативных вмешательств, от теории к практике
DESCRIPTION:"Роль медицинских сестер операционного блока в обеспечении оперативных вмешательств, от теории к практике" организовано "Общероссийская общественная организация "Ассоциация медицинских сестер России""\n\nМар 28 2023 (09:00 - 13:15)(GMT+3)\n\nДля получения дополнительной информации нажмите здесь: https://app.glueup.ru/my/events/3097
LOCATION:ОНЛАЙН - Webinar.ru Санкт-Петербург - Российская Федерация
BEGIN:VALARM
TRIGGER:-PT48H
REPEAT:4
DURATION:PT30M
ACTION:DISPLAY
END:VALARM
END:VEVENT
END:VCALENDAR