BEGIN:VCALENDAR
VERSION:2.0
PRODID:GlueUp
CALSCALE:GREGORIAN
BEGIN:VTIMEZONE
TZID:UTC
BEGIN:STANDARD
DTSTART:19700101T000000
TZOFFSETFROM:+0000
TZOFFSETTO:+0000
TZNAME:UTC
END:STANDARD
END:VTIMEZONE
BEGIN:VEVENT
TZ:+00
ORGANIZER;CN=Тихонюк Ирина Викторовна:MAILTO:tihonukirina22@gmail.com
UID:3170-1776847188@https://app.glueup.ru
DTSTAMP:20260422T083948Z
DTSTART:20230518T020000Z
DTEND:20230518T074000Z
SUMMARY:Роль сестринского персонала в повышении качества и безопасности медицинской помощи пациентам, страдающим психическими расстройствами
DESCRIPTION:"Роль сестринского персонала в повышении качества и безопасности медицинской помощи пациентам, страдающим психическими расстройствами" организовано "Томская региональная общественная организация «Профессиональная ассоциация медицинских сестер Томской области»"\n\nМай 18 2023 (09:00 - 14:40)(GMT+7)\n\nДля получения дополнительной информации нажмите здесь: https://app.glueup.ru/my/events/3170
LOCATION:Центр опережающей профессиональной подготовки Томской области - Московский тракт - 12 Томск - Российская Федерация
BEGIN:VALARM
TRIGGER:-PT48H
REPEAT:4
DURATION:PT30M
ACTION:DISPLAY
END:VALARM
END:VEVENT
END:VCALENDAR