BEGIN:VCALENDAR
VERSION:2.0
PRODID:GlueUp
CALSCALE:GREGORIAN
BEGIN:VTIMEZONE
TZID:UTC
BEGIN:STANDARD
DTSTART:19700101T000000
TZOFFSETFROM:+0000
TZOFFSETTO:+0000
TZNAME:UTC
END:STANDARD
END:VTIMEZONE
BEGIN:VEVENT
TZ:+00
ORGANIZER;CN=Мелёхина Юлия Владимировна:MAILTO:julia@medsestre.ru
UID:3237-1776852254@https://app.glueup.ru
DTSTAMP:20260422T100414Z
DTSTART:20230602T060000Z
DTEND:20230602T120000Z
SUMMARY:Роль среднего медицинского персонала в лечебно-диагностическом процессе некоторых заболеваний в педиатрии
DESCRIPTION:"Роль среднего медицинского персонала в лечебно-диагностическом процессе некоторых заболеваний в педиатрии" организовано "Общероссийская общественная организация "Ассоциация медицинских сестер России""\n\nИюн 2 2023 (09:00 - 15:00)(GMT+3)\n\nДля получения дополнительной информации нажмите здесь: https://app.glueup.ru/my/events/3237
LOCATION:Московский транкт 12 - Томск
BEGIN:VALARM
TRIGGER:-PT48H
REPEAT:4
DURATION:PT30M
ACTION:DISPLAY
END:VALARM
END:VEVENT
END:VCALENDAR