BEGIN:VCALENDAR
VERSION:2.0
PRODID:GlueUp
CALSCALE:GREGORIAN
BEGIN:VTIMEZONE
TZID:UTC
BEGIN:STANDARD
DTSTART:19700101T000000
TZOFFSETFROM:+0000
TZOFFSETTO:+0000
TZNAME:UTC
END:STANDARD
END:VTIMEZONE
BEGIN:VEVENT
TZ:+00
ORGANIZER;CN=Мелёхина Юлия Владимировна:MAILTO:julia@medsestre.ru
UID:3467-1776788155@https://app.glueup.ru
DTSTAMP:20260421T161555Z
DTSTART:20230920T070000Z
DTEND:20230920T110000Z
SUMMARY:Оказание наркологической помощи лицам, страдающим наркоманией и алкоголизмом
DESCRIPTION:"Оказание наркологической помощи лицам, страдающим наркоманией и алкоголизмом" организовано "Общероссийская общественная организация "Ассоциация медицинских сестер России""\n\nСен 20 2023 (10:00 - 14:00)(GMT+3)\n\nДля получения дополнительной информации нажмите здесь: https://app.glueup.ru/my/events/3467
LOCATION:ОНЛАЙН - Webinar.ru Санкт-Петербург - Российская Федерация
BEGIN:VALARM
TRIGGER:-PT48H
REPEAT:4
DURATION:PT30M
ACTION:DISPLAY
END:VALARM
END:VEVENT
END:VCALENDAR