BEGIN:VCALENDAR
VERSION:2.0
PRODID:GlueUp
CALSCALE:GREGORIAN
BEGIN:VTIMEZONE
TZID:UTC
BEGIN:STANDARD
DTSTART:19700101T000000
TZOFFSETFROM:+0000
TZOFFSETTO:+0000
TZNAME:UTC
END:STANDARD
END:VTIMEZONE
BEGIN:VEVENT
TZ:+00
ORGANIZER;CN=Жердецкий Андрей Сергеевич:MAILTO:smol.medsestra@gmail.com
UID:3486-1777173136@https://app.glueup.ru
DTSTAMP:20260426T031216Z
DTSTART:20230914T070000Z
DTEND:20230915T130000Z
SUMMARY:Готовность к переменам. Совершенствование сестринской помощи пациентам с туберкулезом.
DESCRIPTION:"Готовность к переменам. Совершенствование сестринской помощи пациентам с туберкулезом." организовано "РАМС-Смоленская область"\n\nСен 14 - 15, 2023(GMT+3)\n\nДля получения дополнительной информации нажмите здесь: https://app.glueup.ru/my/events/3486
LOCATION:Гранд - отель "Мегаполис" - Пр-т Гагарина - 19б Смоленск - Смоленская область - Российская Федерация
BEGIN:VALARM
TRIGGER:-PT48H
REPEAT:4
DURATION:PT30M
ACTION:DISPLAY
END:VALARM
END:VEVENT
END:VCALENDAR