BEGIN:VCALENDAR
VERSION:2.0
PRODID:GlueUp
CALSCALE:GREGORIAN
BEGIN:VTIMEZONE
TZID:UTC
BEGIN:STANDARD
DTSTART:19700101T000000
TZOFFSETFROM:+0000
TZOFFSETTO:+0000
TZNAME:UTC
END:STANDARD
END:VTIMEZONE
BEGIN:VEVENT
TZ:+00
ORGANIZER;CN=Тихонюк Ирина Викторовна:MAILTO:tihonukirina22@gmail.com
UID:3710-1776847213@https://app.glueup.ru
DTSTAMP:20260422T084013Z
DTSTART:20231212T030000Z
DTEND:20231212T084500Z
SUMMARY:Научно-практическая конференция «Диапазон работы медицинских сестер с пациентами, страдающими психическими расстройствами, в различных сферах медицины»
DESCRIPTION:"Научно-практическая конференция «Диапазон работы медицинских сестер с пациентами, страдающими психическими расстройствами, в различных сферах медицины»" организовано "Томская региональная общественная организация «Профессиональная ассоциация медицинских сестер Томской области»"\n\nДек 12 2023 (10:00 - 15:45)(GMT+7)\n\nДля получения дополнительной информации нажмите здесь: https://app.glueup.ru/my/events/3710
LOCATION:Центр опережающей профессиональной подготовки (ЦОПП) - г.Томск - ул. Московский тракт,12 Томская - Российская Федерация
BEGIN:VALARM
TRIGGER:-PT48H
REPEAT:4
DURATION:PT30M
ACTION:DISPLAY
END:VALARM
END:VEVENT
END:VCALENDAR