BEGIN:VCALENDAR
VERSION:2.0
PRODID:GlueUp
CALSCALE:GREGORIAN
BEGIN:VTIMEZONE
TZID:UTC
BEGIN:STANDARD
DTSTART:19700101T000000
TZOFFSETFROM:+0000
TZOFFSETTO:+0000
TZNAME:UTC
END:STANDARD
END:VTIMEZONE
BEGIN:VEVENT
TZ:+00
ORGANIZER;CN=Андреева Светлана Александровна:MAILTO:blonda-sun@mail.ru
UID:3733-1776648717@https://app.glueup.ru
DTSTAMP:20260420T013157Z
DTSTART:20241204T070000Z
DTEND:20241204T110000Z
SUMMARY:Актуальные вопросы сестринского интенсивного наблюдения и ухода за больными с острыми инфекционными заболеваниями
DESCRIPTION:"Актуальные вопросы сестринского интенсивного наблюдения и ухода за больными с острыми инфекционными заболеваниями" организовано "РАМС-Астраханская область"\n\nДек 4 2024 (10:00 - 14:00)(GMT+3)\n\nДля получения дополнительной информации нажмите здесь: https://app.glueup.ru/my/events/3733
LOCATION:4141056 - ул. Татищева - 2 - г. Астрахань - Астраханская область - Российская Федерация
BEGIN:VALARM
TRIGGER:-PT48H
REPEAT:4
DURATION:PT30M
ACTION:DISPLAY
END:VALARM
END:VEVENT
END:VCALENDAR