BEGIN:VCALENDAR
VERSION:2.0
PRODID:GlueUp
CALSCALE:GREGORIAN
BEGIN:VTIMEZONE
TZID:UTC
BEGIN:STANDARD
DTSTART:19700101T000000
TZOFFSETFROM:+0000
TZOFFSETTO:+0000
TZNAME:UTC
END:STANDARD
END:VTIMEZONE
BEGIN:VEVENT
TZ:+00
ORGANIZER;CN=Жердецкий Андрей Сергеевич:MAILTO:smol.medsestra@gmail.com
UID:4021-1776996943@https://app.glueup.ru
DTSTAMP:20260424T021543Z
DTSTART:20240515T070000Z
DTEND:20240515T110000Z
SUMMARY:Роль среднего медицинского персонала в проведении реабилитационных мероприятий
DESCRIPTION:"Роль среднего медицинского персонала в проведении реабилитационных мероприятий" организовано "РАМС-Смоленская область"\n\nМай 15 2024 (10:00 - 14:00)(GMT+3)\n\nДля получения дополнительной информации нажмите здесь: https://app.glueup.ru/my/events/4021
LOCATION:Гранд - отель "Мегаполис" - Пр-т Гагарина - 19Б Смоленск - Смоленская область - Российская Федерация
BEGIN:VALARM
TRIGGER:-PT48H
REPEAT:4
DURATION:PT30M
ACTION:DISPLAY
END:VALARM
END:VEVENT
END:VCALENDAR