BEGIN:VCALENDAR
VERSION:2.0
PRODID:GlueUp
CALSCALE:GREGORIAN
BEGIN:VTIMEZONE
TZID:UTC
BEGIN:STANDARD
DTSTART:19700101T000000
TZOFFSETFROM:+0000
TZOFFSETTO:+0000
TZNAME:UTC
END:STANDARD
END:VTIMEZONE
BEGIN:VEVENT
TZ:+00
ORGANIZER;CN=Вирки Татьяна Валентиновна:MAILTO:virkita@yandex.ru
UID:4184-1777174013@https://app.glueup.ru
DTSTAMP:20260426T032653Z
DTSTART:20240613T060000Z
DTEND:20240614T130000Z
SUMMARY:ОЧНЫЙ 2-х дневный семинар «Готовность к переменам. Совершенствование сестринской помощи пациентам с туберкулезом»
DESCRIPTION:"ОЧНЫЙ 2-х дневный семинар «Готовность к переменам. Совершенствование сестринской помощи пациентам с туберкулезом»" организовано "РАМС-Республика Карелия"\n\nИюн 13 - 14, 2024(GMT+3)\n\nДля получения дополнительной информации нажмите здесь: https://app.glueup.ru/my/events/4184
LOCATION:ул. Дзержинского, 3 - улица Дзержинского 3 Петрозаводск - Республика Карелия - Российская Федерация
BEGIN:VALARM
TRIGGER:-PT48H
REPEAT:4
DURATION:PT30M
ACTION:DISPLAY
END:VALARM
END:VEVENT
END:VCALENDAR