BEGIN:VCALENDAR
VERSION:2.0
PRODID:GlueUp
CALSCALE:GREGORIAN
BEGIN:VTIMEZONE
TZID:UTC
BEGIN:STANDARD
DTSTART:19700101T000000
TZOFFSETFROM:+0000
TZOFFSETTO:+0000
TZNAME:UTC
END:STANDARD
END:VTIMEZONE
BEGIN:VEVENT
TZ:+00
ORGANIZER;CN=Тихонюк Ирина Викторовна:MAILTO:tihonukirina22@gmail.com
UID:4416-1776847188@https://app.glueup.ru
DTSTAMP:20260422T083948Z
DTSTART:20241024T050000Z
DTEND:20241024T100000Z
SUMMARY:Научно-практическая конференция, посвященная Всемирному дню психического здоровья
DESCRIPTION:"Научно-практическая конференция, посвященная Всемирному дню психического здоровья" организовано "Томская региональная общественная организация «Профессиональная ассоциация медицинских сестер Томской области»"\n\nОкт 24 2024 (12:00 - 17:00)(GMT+7)\n\nДля получения дополнительной информации нажмите здесь: https://app.glueup.ru/my/events/4416
LOCATION:Центр опережающей профессиональной подготовки (ЦОПП) - г.Томск - ул. Московский тракт,12 Томская - Российская Федерация
BEGIN:VALARM
TRIGGER:-PT48H
REPEAT:4
DURATION:PT30M
ACTION:DISPLAY
END:VALARM
END:VEVENT
END:VCALENDAR