BEGIN:VCALENDAR
VERSION:2.0
PRODID:GlueUp
CALSCALE:GREGORIAN
BEGIN:VTIMEZONE
TZID:UTC
BEGIN:STANDARD
DTSTART:19700101T000000
TZOFFSETFROM:+0000
TZOFFSETTO:+0000
TZNAME:UTC
END:STANDARD
END:VTIMEZONE
BEGIN:VEVENT
TZ:+00
ORGANIZER;CN=Андреева Светлана Александровна:MAILTO:blonda-sun@mail.ru
UID:4590-1776642585@https://app.glueup.ru
DTSTAMP:20260419T234945Z
DTSTART:20250205T070000Z
DTEND:20250205T110000Z
SUMMARY:В центре внимания здоровье женщин: диагностика, лечение, профилактика рака молочной железы
DESCRIPTION:"В центре внимания здоровье женщин: диагностика, лечение, профилактика рака молочной железы" организовано "РАМС-Астраханская область"\n\nФев 5 2025 (10:00 - 14:00)(GMT+3)\n\nДля получения дополнительной информации нажмите здесь: https://app.glueup.ru/my/events/4590
LOCATION:ГБУЗ АО «Областной клинический онкологический   диспансер» - улица Бориса Алексеева - 57 Астрахань - Астраханская область - Российская Федерация
BEGIN:VALARM
TRIGGER:-PT48H
REPEAT:4
DURATION:PT30M
ACTION:DISPLAY
END:VALARM
END:VEVENT
END:VCALENDAR