BEGIN:VCALENDAR
VERSION:2.0
PRODID:GlueUp
CALSCALE:GREGORIAN
BEGIN:VTIMEZONE
TZID:UTC
BEGIN:STANDARD
DTSTART:19700101T000000
TZOFFSETFROM:+0000
TZOFFSETTO:+0000
TZNAME:UTC
END:STANDARD
END:VTIMEZONE
BEGIN:VEVENT
TZ:+00
ORGANIZER;CN=Юрина Марина Леонидовна:MAILTO:marina@assocleasing.ru
UID:4602-1777081043@https://app.glueup.ru
DTSTAMP:20260425T013723Z
DTSTART:20241210T070000Z
DTEND:20241210T083000Z
SUMMARY:Антифрод-платформа ОЛА и ОКБ: совместное противодействие мошенничеству в лизинге
DESCRIPTION:"Антифрод-платформа ОЛА и ОКБ: совместное противодействие мошенничеству в лизинге" организовано "Объединенная Лизинговая Ассоциация"\n\nДек 10 2024 (10:00 - 11:30)(GMT+3)\n\nДля получения дополнительной информации нажмите здесь: https://app.glueup.ru/my/events/4602
LOCATION:
BEGIN:VALARM
TRIGGER:-PT48H
REPEAT:4
DURATION:PT30M
ACTION:DISPLAY
END:VALARM
END:VEVENT
END:VCALENDAR