BEGIN:VCALENDAR
VERSION:2.0
PRODID:GlueUp
CALSCALE:GREGORIAN
BEGIN:VTIMEZONE
TZID:UTC
BEGIN:STANDARD
DTSTART:19700101T000000
TZOFFSETFROM:+0000
TZOFFSETTO:+0000
TZNAME:UTC
END:STANDARD
END:VTIMEZONE
BEGIN:VEVENT
TZ:+00
ORGANIZER;CN=Андреева Светлана Александровна:MAILTO:blonda-sun@mail.ru
UID:4606-1776642560@https://app.glueup.ru
DTSTAMP:20260419T234920Z
DTSTART:20250212T070000Z
DTEND:20250212T101000Z
SUMMARY:Операционная медицинская сестра - связующее звено между хирургом и процессом деятельности операционного блока
DESCRIPTION:"Операционная медицинская сестра - связующее звено между хирургом и процессом деятельности операционного блока" организовано "РАМС-Астраханская область"\n\nФев 12 2025 (10:00 - 13:10)(GMT+3)\n\nДля получения дополнительной информации нажмите здесь: https://app.glueup.ru/my/events/4606
LOCATION: - ул. Татищева - 2 - г. Астрахань - Российская Федерация
BEGIN:VALARM
TRIGGER:-PT48H
REPEAT:4
DURATION:PT30M
ACTION:DISPLAY
END:VALARM
END:VEVENT
END:VCALENDAR