BEGIN:VCALENDAR
VERSION:2.0
PRODID:GlueUp
CALSCALE:GREGORIAN
BEGIN:VTIMEZONE
TZID:UTC
BEGIN:STANDARD
DTSTART:19700101T000000
TZOFFSETFROM:+0000
TZOFFSETTO:+0000
TZNAME:UTC
END:STANDARD
END:VTIMEZONE
BEGIN:VEVENT
TZ:+00
ORGANIZER;CN=Юрина Марина Леонидовна:MAILTO:marina@assocleasing.ru
UID:4687-1777085226@https://app.glueup.ru
DTSTAMP:20260425T024706Z
DTSTART:20250206T070000Z
DTEND:20250206T090000Z
SUMMARY:МСП Банк: финансовые инструменты для лизинговых компаний, условия работы с Банком
DESCRIPTION:"МСП Банк: финансовые инструменты для лизинговых компаний, условия работы с Банком" организовано "Объединенная Лизинговая Ассоциация"\n\nФев 6 2025 (10:00 - 12:00)(GMT+3)\n\nДля получения дополнительной информации нажмите здесь: https://app.glueup.ru/my/events/4687
LOCATION:
BEGIN:VALARM
TRIGGER:-PT48H
REPEAT:4
DURATION:PT30M
ACTION:DISPLAY
END:VALARM
END:VEVENT
END:VCALENDAR