BEGIN:VCALENDAR
VERSION:2.0
PRODID:GlueUp
CALSCALE:GREGORIAN
BEGIN:VTIMEZONE
TZID:UTC
BEGIN:STANDARD
DTSTART:19700101T000000
TZOFFSETFROM:+0000
TZOFFSETTO:+0000
TZNAME:UTC
END:STANDARD
END:VTIMEZONE
BEGIN:VEVENT
TZ:+00
ORGANIZER;CN=Андреева Светлана Александровна:MAILTO:blonda-sun@mail.ru
UID:4713-1776642511@https://app.glueup.ru
DTSTAMP:20260419T234831Z
DTSTART:20250410T070000Z
DTEND:20250410T100500Z
SUMMARY:Лидерство – как основа эффективной стратегии управления сестринским коллективом
DESCRIPTION:"Лидерство – как основа эффективной стратегии управления сестринским коллективом" организовано "РАМС-Астраханская область"\n\nАпр 10 2025 (10:00 - 13:05)(GMT+3)\n\nДля получения дополнительной информации нажмите здесь: https://app.glueup.ru/my/events/4713
LOCATION:4141056 - ул. Татищева - 2 - г. Астрахань - Российская Федерация
BEGIN:VALARM
TRIGGER:-PT48H
REPEAT:4
DURATION:PT30M
ACTION:DISPLAY
END:VALARM
END:VEVENT
END:VCALENDAR