BEGIN:VCALENDAR
VERSION:2.0
PRODID:GlueUp
CALSCALE:GREGORIAN
BEGIN:VTIMEZONE
TZID:UTC
BEGIN:STANDARD
DTSTART:19700101T000000
TZOFFSETFROM:+0000
TZOFFSETTO:+0000
TZNAME:UTC
END:STANDARD
END:VTIMEZONE
BEGIN:VEVENT
TZ:+00
ORGANIZER;CN=Кушнарева Оксана Викторовна:MAILTO:kuzams@mail.ru
UID:4853-1776917343@https://app.glueup.ru
DTSTAMP:20260423T040903Z
DTSTART:20250515T030000Z
DTEND:20250515T065000Z
SUMMARY:Актуальные вопросы работы с пациентами, страдающими патологией нижних мочевых путей, мужских половых органов
DESCRIPTION:"Актуальные вопросы работы с пациентами, страдающими патологией нижних мочевых путей, мужских половых органов" организовано "КРОО "Профессиональная ассоциация медицинских сестер Кузбасса""\n\nМай 15 2025 (10:00 - 13:50)(GMT+7)\n\nДля получения дополнительной информации нажмите здесь: https://app.glueup.ru/my/events/4853
LOCATION:г. Кемерово, пр. Советский 68 - Государственная филармония Кузбасса им. Б.Т. Штоколова - изумрудный зал
BEGIN:VALARM
TRIGGER:-PT48H
REPEAT:4
DURATION:PT30M
ACTION:DISPLAY
END:VALARM
END:VEVENT
END:VCALENDAR