BEGIN:VCALENDAR
VERSION:2.0
PRODID:GlueUp
CALSCALE:GREGORIAN
BEGIN:VTIMEZONE
TZID:UTC
BEGIN:STANDARD
DTSTART:19700101T000000
TZOFFSETFROM:+0000
TZOFFSETTO:+0000
TZNAME:UTC
END:STANDARD
END:VTIMEZONE
BEGIN:VEVENT
TZ:+00
ORGANIZER;CN=Мехоношина Татьяна:MAILTO:tatyana@eventbank.com
UID:54-1776673449@https://app.glueup.ru
DTSTAMP:20260420T082409Z
DTSTART:20181121T070000Z
DTEND:20181121T090000Z
SUMMARY:Круглый стол «Организация мероприятий крупными и средними компаниями. Лучшие практики»
DESCRIPTION:"Круглый стол «Организация мероприятий крупными и средними компаниями. Лучшие практики»" организовано "Glue Up Россия"\n\nНоя 21 2018 (10:00 - 12:00)(GMT+3)\n\nДля получения дополнительной информации нажмите здесь: https://app.glueup.ru/my/events/54
LOCATION:Московская Торгово-Промышленная Палата, Малый зал - улица Петровка - 15 Москва - Российская Федерация
BEGIN:VALARM
TRIGGER:-PT48H
REPEAT:4
DURATION:PT30M
ACTION:DISPLAY
END:VALARM
END:VEVENT
END:VCALENDAR