BEGIN:VCALENDAR
VERSION:2.0
PRODID:GlueUp
CALSCALE:GREGORIAN
BEGIN:VTIMEZONE
TZID:UTC
BEGIN:STANDARD
DTSTART:19700101T000000
TZOFFSETFROM:+0000
TZOFFSETTO:+0000
TZNAME:UTC
END:STANDARD
END:VTIMEZONE
BEGIN:VEVENT
TZ:+00
ORGANIZER;CN=Столбова Анастасия:MAILTO:marina@rusfranch.ru
UID:1320-1777173477@https://app.glueup.ru
DTSTAMP:20260426T031757Z
DTSTART:20210323T070000Z
DTEND:20210325T150000Z
SUMMARY:BUYBRAND Franchise Market 2021
DESCRIPTION:"BUYBRAND Franchise Market 2021" организовано "Российская ассоциация франчайзинга"\n\nМар 23 - 25, 2021(GMT+3)\n\nДля получения дополнительной информации нажмите здесь: https://app.glueup.ru/my/events/1320
LOCATION:
BEGIN:VALARM
TRIGGER:-PT48H
REPEAT:4
DURATION:PT30M
ACTION:DISPLAY
END:VALARM
END:VEVENT
END:VCALENDAR