BEGIN:VCALENDAR
VERSION:2.0
PRODID:GlueUp
CALSCALE:GREGORIAN
BEGIN:VTIMEZONE
TZID:UTC
BEGIN:STANDARD
DTSTART:19700101T000000
TZOFFSETFROM:+0000
TZOFFSETTO:+0000
TZNAME:UTC
END:STANDARD
END:VTIMEZONE
BEGIN:VEVENT
TZ:+00
ORGANIZER;CN=Ivy Liang:MAILTO:ivy.liang@eventbank.com
UID:212-1776764323@https://app.glueup.ru
DTSTAMP:20260421T093843Z
DTSTART:20201126T074500Z
DTEND:20201126T130000Z
SUMMARY:test register
DESCRIPTION:test register by EG Publishing Плопсофт\n\nNov 26, 2020 (10:45 - 16:00)(GMT+3)\n\nFor more information, click here: https://app.glueup.ru/my/events/212
LOCATION:
BEGIN:VALARM
TRIGGER:-PT48H
REPEAT:4
DURATION:PT30M
ACTION:DISPLAY
END:VALARM
END:VEVENT
END:VCALENDAR