BEGIN:VCALENDAR
VERSION:2.0
PRODID:GlueUp
CALSCALE:GREGORIAN
BEGIN:VTIMEZONE
TZID:UTC
BEGIN:STANDARD
DTSTART:19700101T000000
TZOFFSETFROM:+0000
TZOFFSETTO:+0000
TZNAME:UTC
END:STANDARD
END:VTIMEZONE
BEGIN:VEVENT
TZ:+00
ORGANIZER;CN=Жердецкий Андрей Сергеевич:MAILTO:smol.medsestra@gmail.com
UID:4621-1777003286@https://app.glueup.ru
DTSTAMP:20260424T040126Z
DTSTART:20250219T110000Z
DTEND:20250219T150000Z
SUMMARY:«Актуальные аспекты работы операционной медицинской сестры»
DESCRIPTION:"«Актуальные аспекты работы операционной медицинской сестры»" организовано "РАМС-Смоленская область"\n\nФев 19 2025 (14:00 - 18:00)(GMT+3)\n\nДля получения дополнительной информации нажмите здесь: https://app.glueup.ru/my/events/4621
LOCATION:214020, Россия, г. Смоленск, ул. Шевченко, д. 87 - Смоленское областное государственное автономное учреждение дополнительного профессионального образования - «Центр опережающей профессиональной подготовки» Смоленск - Смоленская область - Российская Федерация
BEGIN:VALARM
TRIGGER:-PT48H
REPEAT:4
DURATION:PT30M
ACTION:DISPLAY
END:VALARM
END:VEVENT
END:VCALENDAR