BEGIN:VCALENDAR
VERSION:2.0
PRODID:GlueUp
CALSCALE:GREGORIAN
BEGIN:VTIMEZONE
TZID:UTC
BEGIN:STANDARD
DTSTART:19700101T000000
TZOFFSETFROM:+0000
TZOFFSETTO:+0000
TZNAME:UTC
END:STANDARD
END:VTIMEZONE
BEGIN:VEVENT
TZ:+00
ORGANIZER;CN=Жердецкий Андрей Сергеевич:MAILTO:smol.medsestra@gmail.com
UID:4634-1776997757@https://app.glueup.ru
DTSTAMP:20260424T022917Z
DTSTART:20250425T110000Z
DTEND:20250425T150000Z
SUMMARY:Актуальные вопросы акушерской практики
DESCRIPTION:"Актуальные вопросы акушерской практики" организовано "РАМС-Смоленская область"\n\nАпр 25 2025 (14:00 - 18:00)(GMT+3)\n\nДля получения дополнительной информации нажмите здесь: https://app.glueup.ru/my/events/4634
LOCATION:214020, Россия, г. Смоленск, ул. Шевченко, д. 87 - Смоленское областное государственное автономное учреждение дополнительного профессионального образования - «Центр опережающей профессиональной подготовки» Смоленск - Российская Федерация
BEGIN:VALARM
TRIGGER:-PT48H
REPEAT:4
DURATION:PT30M
ACTION:DISPLAY
END:VALARM
END:VEVENT
END:VCALENDAR