BEGIN:VCALENDAR
VERSION:2.0
PRODID:GlueUp
CALSCALE:GREGORIAN
BEGIN:VTIMEZONE
TZID:UTC
BEGIN:STANDARD
DTSTART:19700101T000000
TZOFFSETFROM:+0000
TZOFFSETTO:+0000
TZNAME:UTC
END:STANDARD
END:VTIMEZONE
BEGIN:VEVENT
TZ:+00
ORGANIZER;CN=Юрина Марина Леонидовна:MAILTO:marina@assocleasing.ru
UID:4677-1777081113@https://app.glueup.ru
DTSTAMP:20260425T013833Z
DTSTART:20250320T123000Z
DTEND:20250320T150000Z
SUMMARY:Актуальные вопросы лизинговых компаний по ПОДФТ
DESCRIPTION:"Актуальные вопросы лизинговых компаний по ПОДФТ" организовано "Объединенная Лизинговая Ассоциация"\n\nМар 20 2025 (15:30 - 18:00)(GMT+3)\n\nДля получения дополнительной информации нажмите здесь: https://app.glueup.ru/my/events/4677
LOCATION:Москва, отель "Холидей Инн Сокольники" - Москва - ул. Русаковская - д. 24 Москва - Российская Федерация
BEGIN:VALARM
TRIGGER:-PT48H
REPEAT:4
DURATION:PT30M
ACTION:DISPLAY
END:VALARM
END:VEVENT
END:VCALENDAR