BEGIN:VCALENDAR
VERSION:2.0
PRODID:GlueUp
CALSCALE:GREGORIAN
BEGIN:VTIMEZONE
TZID:UTC
BEGIN:STANDARD
DTSTART:19700101T000000
TZOFFSETFROM:+0000
TZOFFSETTO:+0000
TZNAME:UTC
END:STANDARD
END:VTIMEZONE
BEGIN:VEVENT
TZ:+00
ORGANIZER;CN=Юн Жанна Валентиновна:MAILTO:pooms@mail.ru
UID:1661-1776847639@https://app.glueup.ru
DTSTAMP:20260422T084719Z
DTSTART:20211112T000000Z
DTEND:20211112T043000Z
SUMMARY:Актуальные вопросы сестринского дела в психиатрии и наркологии
DESCRIPTION:"Актуальные вопросы сестринского дела в психиатрии и наркологии" организовано "РАМС-Приморский край – ПООМС"\n\nНоя 12 2021 (10:00 - 14:30)(GMT+10)\n\nДля получения дополнительной информации нажмите здесь: https://app.glueup.ru/my/events/1661
LOCATION:г. Уссурийск, ул. Агеева, 75А,  ДК «Юность» - Приморский край
BEGIN:VALARM
TRIGGER:-PT48H
REPEAT:4
DURATION:PT30M
ACTION:DISPLAY
END:VALARM
END:VEVENT
END:VCALENDAR