BEGIN:VCALENDAR
VERSION:2.0
PRODID:GlueUp
CALSCALE:GREGORIAN
BEGIN:VTIMEZONE
TZID:UTC
BEGIN:STANDARD
DTSTART:19700101T000000
TZOFFSETFROM:+0000
TZOFFSETTO:+0000
TZNAME:UTC
END:STANDARD
END:VTIMEZONE
BEGIN:VEVENT
TZ:+00
ORGANIZER;CN=Андреева Елена Витальевна:MAILTO:lenochek_and@mail.ru
UID:2889-1776764345@https://app.glueup.ru
DTSTAMP:20260421T093905Z
DTSTART:20230421T140000Z
DTEND:20230421T160000Z
SUMMARY:Аффективные расстройства личности
DESCRIPTION:"Аффективные расстройства личности" организовано "РАМС-Тамбовская область"\n\nАпр 21 2023 (17:00 - 19:00)(GMT+3)\n\nДля получения дополнительной информации нажмите здесь: https://app.glueup.ru/my/events/2889
LOCATION:г.Тамбов, ул.Московская, д.19 - Российская Федерация
BEGIN:VALARM
TRIGGER:-PT48H
REPEAT:4
DURATION:PT30M
ACTION:DISPLAY
END:VALARM
END:VEVENT
END:VCALENDAR