BEGIN:VCALENDAR
VERSION:2.0
PRODID:GlueUp
CALSCALE:GREGORIAN
BEGIN:VTIMEZONE
TZID:UTC
BEGIN:STANDARD
DTSTART:19700101T000000
TZOFFSETFROM:+0000
TZOFFSETTO:+0000
TZNAME:UTC
END:STANDARD
END:VTIMEZONE
BEGIN:VEVENT
TZ:+00
ORGANIZER;CN=Юрина Марина Леонидовна:MAILTO:marina@assocleasing.ru
UID:3833-1776951286@https://app.glueup.ru
DTSTAMP:20260423T133446Z
DTSTART:20240313T070000Z
DTEND:20240313T110000Z
SUMMARY:Безопасность лизинговой и арендной деятельности – 2024
DESCRIPTION:"Безопасность лизинговой и арендной деятельности – 2024" организовано "Объединенная Лизинговая Ассоциация"\n\nМар 13 2024 (10:00 - 14:00)(GMT+3)\n\nДля получения дополнительной информации нажмите здесь: https://app.glueup.ru/my/events/3833
LOCATION:Холидей Инн Москва Сокольники - Русаковская улица 24 Москва - Российская Федерация
BEGIN:VALARM
TRIGGER:-PT48H
REPEAT:4
DURATION:PT30M
ACTION:DISPLAY
END:VALARM
END:VEVENT
END:VCALENDAR