BEGIN:VCALENDAR
VERSION:2.0
PRODID:GlueUp
CALSCALE:GREGORIAN
BEGIN:VTIMEZONE
TZID:UTC
BEGIN:STANDARD
DTSTART:19700101T000000
TZOFFSETFROM:+0000
TZOFFSETTO:+0000
TZNAME:UTC
END:STANDARD
END:VTIMEZONE
BEGIN:VEVENT
TZ:+00
ORGANIZER;CN=Калинина Ирина Геннадиевна:MAILTO:roomskalinina@gmail.com
UID:4980-1776620536@https://app.glueup.ru
DTSTAMP:20260419T174216Z
DTSTART:20250820T120000Z
DTEND:20250820T140000Z
SUMMARY:Вебинар «Актуальные вопросы дезинфекции, предстерилизационной очистки и стерилизации медицинских изделий, ошибки и их предотвращение»
DESCRIPTION:"Вебинар «Актуальные вопросы дезинфекции, предстерилизационной очистки и стерилизации медицинских изделий, ошибки и их предотвращение»" организовано "Региональная общественная организация медицинских сестер, г. Москва"\n\nАвг 20 2025 (15:00 - 17:00)(GMT+3)\n\nДля получения дополнительной информации нажмите здесь: https://app.glueup.ru/my/events/4980
LOCATION:ОНЛАЙН - webinar.ru Москва
BEGIN:VALARM
TRIGGER:-PT48H
REPEAT:4
DURATION:PT30M
ACTION:DISPLAY
END:VALARM
END:VEVENT
END:VCALENDAR