BEGIN:VCALENDAR
VERSION:2.0
PRODID:GlueUp
CALSCALE:GREGORIAN
BEGIN:VTIMEZONE
TZID:UTC
BEGIN:STANDARD
DTSTART:19700101T000000
TZOFFSETFROM:+0000
TZOFFSETTO:+0000
TZNAME:UTC
END:STANDARD
END:VTIMEZONE
BEGIN:VEVENT
TZ:+00
ORGANIZER;CN=Калинина Ирина Геннадиевна:MAILTO:roomskalinina@gmail.com
UID:5120-1776624653@https://app.glueup.ru
DTSTAMP:20260419T185053Z
DTSTART:20251014T110000Z
DTEND:20251014T124500Z
SUMMARY:Вебинар «Быстро, точно, нежно: современные тенденции и лучшие практики флеботомии у малышей»
DESCRIPTION:"Вебинар «Быстро, точно, нежно: современные тенденции и лучшие практики флеботомии у малышей»" организовано "Региональная общественная организация медицинских сестер, г. Москва"\n\nОкт 14 2025 (14:00 - 15:45)(GMT+3)\n\nДля получения дополнительной информации нажмите здесь: https://app.glueup.ru/my/events/5120
LOCATION:ОНЛАЙН - МТС ЛИНК Москва
BEGIN:VALARM
TRIGGER:-PT48H
REPEAT:4
DURATION:PT30M
ACTION:DISPLAY
END:VALARM
END:VEVENT
END:VCALENDAR