BEGIN:VCALENDAR
VERSION:2.0
PRODID:GlueUp
CALSCALE:GREGORIAN
BEGIN:VTIMEZONE
TZID:UTC
BEGIN:STANDARD
DTSTART:19700101T000000
TZOFFSETFROM:+0000
TZOFFSETTO:+0000
TZNAME:UTC
END:STANDARD
END:VTIMEZONE
BEGIN:VEVENT
TZ:+00
ORGANIZER;CN=Калинина Ирина Геннадиевна:MAILTO:roomskalinina@gmail.com
UID:5127-1776620489@https://app.glueup.ru
DTSTAMP:20260419T174129Z
DTSTART:20251001T110000Z
DTEND:20251001T120000Z
SUMMARY:Вебинар из цикла "Разговоры о важном"	  «Беременность подростков. Профилактика абортов»
DESCRIPTION:"Вебинар из цикла "Разговоры о важном"	  «Беременность подростков. Профилактика абортов»" организовано "Региональная общественная организация медицинских сестер, г. Москва"\n\nОкт 1 2025 (14:00 - 15:00)(GMT+3)\n\nДля получения дополнительной информации нажмите здесь: https://app.glueup.ru/my/events/5127
LOCATION:ОНЛАЙН - МТС ЛИНК Москва
BEGIN:VALARM
TRIGGER:-PT48H
REPEAT:4
DURATION:PT30M
ACTION:DISPLAY
END:VALARM
END:VEVENT
END:VCALENDAR