BEGIN:VCALENDAR
VERSION:2.0
PRODID:GlueUp
CALSCALE:GREGORIAN
BEGIN:VTIMEZONE
TZID:UTC
BEGIN:STANDARD
DTSTART:19700101T000000
TZOFFSETFROM:+0000
TZOFFSETTO:+0000
TZNAME:UTC
END:STANDARD
END:VTIMEZONE
BEGIN:VEVENT
TZ:+00
ORGANIZER;CN=Калинина Ирина Геннадиевна:MAILTO:roomskalinina@gmail.com
UID:5179-1776620368@https://app.glueup.ru
DTSTAMP:20260419T173928Z
DTSTART:20251030T140000Z
DTEND:20251030T153000Z
SUMMARY:Вебинар "Основные этапы исследования"   Часть 2.                                                                                               Встреча 6
DESCRIPTION:"Вебинар "Основные этапы исследования"   Часть 2.                                                                                               Встреча 6" организовано "Региональная общественная организация медицинских сестер, г. Москва"\n\nОкт 30 2025 (17:00 - 18:30)(GMT+3)\n\nДля получения дополнительной информации нажмите здесь: https://app.glueup.ru/my/events/5179
LOCATION:ОНЛАЙН - Москва
BEGIN:VALARM
TRIGGER:-PT48H
REPEAT:4
DURATION:PT30M
ACTION:DISPLAY
END:VALARM
END:VEVENT
END:VCALENDAR