BEGIN:VCALENDAR
VERSION:2.0
PRODID:GlueUp
CALSCALE:GREGORIAN
BEGIN:VTIMEZONE
TZID:UTC
BEGIN:STANDARD
DTSTART:19700101T000000
TZOFFSETFROM:+0000
TZOFFSETTO:+0000
TZNAME:UTC
END:STANDARD
END:VTIMEZONE
BEGIN:VEVENT
TZ:+00
ORGANIZER;CN=Калинина Ирина Геннадиевна:MAILTO:roomskalinina@gmail.com
UID:5209-1776620478@https://app.glueup.ru
DTSTAMP:20260419T174118Z
DTSTART:20251202T100000Z
DTEND:20251202T113000Z
SUMMARY:Вебинар  "От пробирки до результата: секреты преаналитического этапа анализа мочи"
DESCRIPTION:"Вебинар  "От пробирки до результата: секреты преаналитического этапа анализа мочи"" организовано "Региональная общественная организация медицинских сестер, г. Москва"\n\nДек 2 2025 (13:00 - 14:30)(GMT+3)\n\nДля получения дополнительной информации нажмите здесь: https://app.glueup.ru/my/events/5209
LOCATION:ОНЛАЙН - МТС ЛИНК Москва
BEGIN:VALARM
TRIGGER:-PT48H
REPEAT:4
DURATION:PT30M
ACTION:DISPLAY
END:VALARM
END:VEVENT
END:VCALENDAR