BEGIN:VCALENDAR
VERSION:2.0
PRODID:GlueUp
CALSCALE:GREGORIAN
BEGIN:VTIMEZONE
TZID:UTC
BEGIN:STANDARD
DTSTART:19700101T000000
TZOFFSETFROM:+0000
TZOFFSETTO:+0000
TZNAME:UTC
END:STANDARD
END:VTIMEZONE
BEGIN:VEVENT
TZ:+00
ORGANIZER;CN=Организационный Комитет:MAILTO:vnukova@aviasalon.com
UID:2369-1776759616@https://app.glueup.ru
DTSTAMP:20260421T082016Z
DTSTART:20220930T210001Z
DTEND:20221004T210001Z
SUMMARY:Гидроавиасалон 2022
DESCRIPTION:"Гидроавиасалон 2022" организовано "Гидроавиасалон"\n\nОкт 1 - 5, 2022(GMT+3)\n\nДля получения дополнительной информации нажмите здесь: https://app.glueup.ru/my/events/2369
LOCATION:Аэропорт - Геленджик - Краснодарский край - Российская Федерация
BEGIN:VALARM
TRIGGER:-PT48H
REPEAT:4
DURATION:PT30M
ACTION:DISPLAY
END:VALARM
END:VEVENT
END:VCALENDAR