BEGIN:VCALENDAR
VERSION:2.0
PRODID:GlueUp
CALSCALE:GREGORIAN
BEGIN:VTIMEZONE
TZID:UTC
BEGIN:STANDARD
DTSTART:19700101T000000
TZOFFSETFROM:+0000
TZOFFSETTO:+0000
TZNAME:UTC
END:STANDARD
END:VTIMEZONE
BEGIN:VEVENT
TZ:+00
ORGANIZER;CN=Даянова Анна Павловна:MAILTO:info@asmrso.ru
UID:5448-1776783866@https://app.glueup.ru
DTSTAMP:20260421T150426Z
DTSTART:20260518T050000Z
DTEND:20260518T113000Z
SUMMARY:Диагностический саммит РАМС. Диагностика на стыке процессов и специальностей
DESCRIPTION:"Диагностический саммит РАМС. Диагностика на стыке процессов и специальностей" организовано "РАМС- Свердловская область"\n\nМай 18 2026 (10:00 - 16:30)(GMT+5)\n\nДля получения дополнительной информации нажмите здесь: https://app.glueup.ru/my/events/5448
LOCATION:г. Екатеринбург, ул. Волгоградская, д.185 - ГАУЗ СО «СОКБ №1» - актовый зал
BEGIN:VALARM
TRIGGER:-PT48H
REPEAT:4
DURATION:PT30M
ACTION:DISPLAY
END:VALARM
END:VEVENT
END:VCALENDAR