BEGIN:VCALENDAR
VERSION:2.0
PRODID:GlueUp
CALSCALE:GREGORIAN
BEGIN:VTIMEZONE
TZID:UTC
BEGIN:STANDARD
DTSTART:19700101T000000
TZOFFSETFROM:+0000
TZOFFSETTO:+0000
TZNAME:UTC
END:STANDARD
END:VTIMEZONE
BEGIN:VEVENT
TZ:+00
ORGANIZER;CN=Казанцева Евгения:MAILTO:directorate@raso.ru
UID:4482-1776965109@https://app.glueup.ru
DTSTAMP:20260423T172509Z
DTSTART:20241122T090000Z
DTEND:20241122T190000Z
SUMMARY:Дни PR'24
DESCRIPTION:"Дни PR'24" организовано "РАСО"\n\nНоя 22 2024 (12:00 - 22:00)(GMT+3)\n\nДля получения дополнительной информации нажмите здесь: https://app.glueup.ru/my/events/4482
LOCATION:Котельническая наб., 17 - Российский союз промышленников и предпринимателей Москва - Российская Федерация
BEGIN:VALARM
TRIGGER:-PT48H
REPEAT:4
DURATION:PT30M
ACTION:DISPLAY
END:VALARM
END:VEVENT
END:VCALENDAR