BEGIN:VCALENDAR
VERSION:2.0
PRODID:GlueUp
CALSCALE:GREGORIAN
BEGIN:VTIMEZONE
TZID:UTC
BEGIN:STANDARD
DTSTART:19700101T000000
TZOFFSETFROM:+0000
TZOFFSETTO:+0000
TZNAME:UTC
END:STANDARD
END:VTIMEZONE
BEGIN:VEVENT
TZ:+00
ORGANIZER;CN=Медиа группа Капитал-Инфо Журнал "Банковское дело":MAILTO:mar-nest@mail.ru
UID:4706-1776718563@https://app.glueup.ru
DTSTAMP:20260420T205603Z
DTSTART:20250416T170000Z
DTEND:20250420T070000Z
SUMMARY:Eurasian Financial and Economic Forum in Shanghai
DESCRIPTION:Eurasian Financial and Economic Forum in Shanghai by "НИЦ КапиталИнфо"\n\nApr 16 - 20, 2025(GMT+3)\n\nFor more information, click here: https://app.glueup.ru/my/events/4706
LOCATION: - China
BEGIN:VALARM
TRIGGER:-PT48H
REPEAT:4
DURATION:PT30M
ACTION:DISPLAY
END:VALARM
END:VEVENT
END:VCALENDAR