BEGIN:VCALENDAR
VERSION:2.0
PRODID:GlueUp
CALSCALE:GREGORIAN
BEGIN:VTIMEZONE
TZID:UTC
BEGIN:STANDARD
DTSTART:19700101T000000
TZOFFSETFROM:+0000
TZOFFSETTO:+0000
TZNAME:UTC
END:STANDARD
END:VTIMEZONE
BEGIN:VEVENT
TZ:+00
ORGANIZER;CN=Андреева Елена Витальевна:MAILTO:lenochek_and@mail.ru
UID:5337-1776857374@https://app.glueup.ru
DTSTAMP:20260422T112934Z
DTSTART:20260520T090000Z
DTEND:20260520T121000Z
SUMMARY:Здоровье нации
DESCRIPTION:"Здоровье нации" организовано "РАМС-Тамбовская область"\n\nМай 20 2026 (12:00 - 15:10)(GMT+3)\n\nДля получения дополнительной информации нажмите здесь: https://app.glueup.ru/my/events/5337
LOCATION:г.Тамбов, ул.Запрудная 59а - запрудная 59а Тамбов - Тамбовская область - Российская Федерация
BEGIN:VALARM
TRIGGER:-PT48H
REPEAT:4
DURATION:PT30M
ACTION:DISPLAY
END:VALARM
END:VEVENT
END:VCALENDAR