BEGIN:VCALENDAR
VERSION:2.0
PRODID:GlueUp
CALSCALE:GREGORIAN
BEGIN:VTIMEZONE
TZID:UTC
BEGIN:STANDARD
DTSTART:19700101T000000
TZOFFSETFROM:+0000
TZOFFSETTO:+0000
TZNAME:UTC
END:STANDARD
END:VTIMEZONE
BEGIN:VEVENT
TZ:+00
ORGANIZER;CN=Юрина Марина Леонидовна:MAILTO:marina@assocleasing.ru
UID:5116-1776936323@https://app.glueup.ru
DTSTAMP:20260423T092523Z
DTSTART:20251009T070000Z
DTEND:20251009T080000Z
SUMMARY:Инструменты размещения свободной ликвидности и привлечения финансирования на Московской Бирже для лизинговых компаний
DESCRIPTION:"Инструменты размещения свободной ликвидности и привлечения финансирования на Московской Бирже для лизинговых компаний" организовано "Объединенная Лизинговая Ассоциация"\n\nОкт 9 2025 (10:00 - 11:00)(GMT+3)\n\nДля получения дополнительной информации нажмите здесь: https://app.glueup.ru/my/events/5116
LOCATION:
BEGIN:VALARM
TRIGGER:-PT48H
REPEAT:4
DURATION:PT30M
ACTION:DISPLAY
END:VALARM
END:VEVENT
END:VCALENDAR