BEGIN:VCALENDAR
VERSION:2.0
PRODID:GlueUp
CALSCALE:GREGORIAN
BEGIN:VTIMEZONE
TZID:UTC
BEGIN:STANDARD
DTSTART:19700101T000000
TZOFFSETFROM:+0000
TZOFFSETTO:+0000
TZNAME:UTC
END:STANDARD
END:VTIMEZONE
BEGIN:VEVENT
TZ:+00
ORGANIZER;CN=Юрина Марина Леонидовна:MAILTO:marina@assocleasing.ru
UID:5302-1776941113@https://app.glueup.ru
DTSTAMP:20260423T104513Z
DTSTART:20260225T080000Z
DTEND:20260225T090000Z
SUMMARY:Информационный вебинар комитета ОЛА по фондированию по Указаниям Банка России № 7183-У, вступающим в силу с 01.04.2026 года.
DESCRIPTION:"Информационный вебинар комитета ОЛА по фондированию по Указаниям Банка России № 7183-У, вступающим в силу с 01.04.2026 года." организовано "Объединенная Лизинговая Ассоциация"\n\nФев 25 2026 (11:00 - 12:00)(GMT+3)\n\nДля получения дополнительной информации нажмите здесь: https://app.glueup.ru/my/events/5302
LOCATION:
BEGIN:VALARM
TRIGGER:-PT48H
REPEAT:4
DURATION:PT30M
ACTION:DISPLAY
END:VALARM
END:VEVENT
END:VCALENDAR