BEGIN:VCALENDAR
VERSION:2.0
PRODID:GlueUp
CALSCALE:GREGORIAN
BEGIN:VTIMEZONE
TZID:UTC
BEGIN:STANDARD
DTSTART:19700101T000000
TZOFFSETFROM:+0000
TZOFFSETTO:+0000
TZNAME:UTC
END:STANDARD
END:VTIMEZONE
BEGIN:VEVENT
TZ:+00
ORGANIZER;CN=Селиванова Анна:MAILTO:a.selivanova@exporuss.ru
UID:5279-1777033212@https://app.glueup.ru
DTSTAMP:20260424T122012Z
DTSTART:20260407T120000Z
DTEND:20260407T170000Z
SUMMARY:Конференция НАДДиПС
DESCRIPTION:"Конференция НАДДиПС" организовано "Национальная ассоциация дилеров, дистрибьюторов и производителей спецтехники (НАДДиПС)"\n\nАпр 7 2026 (15:00 - 20:00)(GMT+3)\n\nДля получения дополнительной информации нажмите здесь: https://app.glueup.ru/my/events/5279
LOCATION:Белые Сады - Лесная улица 7-9 Москва - Российская Федерация
BEGIN:VALARM
TRIGGER:-PT48H
REPEAT:4
DURATION:PT30M
ACTION:DISPLAY
END:VALARM
END:VEVENT
END:VCALENDAR