BEGIN:VCALENDAR
VERSION:2.0
PRODID:GlueUp
CALSCALE:GREGORIAN
BEGIN:VTIMEZONE
TZID:UTC
BEGIN:STANDARD
DTSTART:19700101T000000
TZOFFSETFROM:+0000
TZOFFSETTO:+0000
TZNAME:UTC
END:STANDARD
END:VTIMEZONE
BEGIN:VEVENT
TZ:+00
ORGANIZER;CN=Коренева Татьяна Борисовна:MAILTO:tanya_koreneva@mail.ru
UID:4820-1776759612@https://app.glueup.ru
DTSTAMP:20260421T082012Z
DTSTART:20250514T075000Z
DTEND:20250514T113000Z
SUMMARY:Конференция «Сестринские практики: обмен опытом»
DESCRIPTION:"Конференция «Сестринские практики: обмен опытом»" организовано "РАМС-Ленинградская область"\n\nМай 14 2025 (10:50 - 14:30)(GMT+3)\n\nДля получения дополнительной информации нажмите здесь: https://app.glueup.ru/my/events/4820
LOCATION:Конференц-зал в здании детской поликлиники ГБУЗ ЛО "Всеволожская КМБ" - г. Всеволожск - Колтушкое шоссе - д.20 Ленинградская область - Российская Федерация
BEGIN:VALARM
TRIGGER:-PT48H
REPEAT:4
DURATION:PT30M
ACTION:DISPLAY
END:VALARM
END:VEVENT
END:VCALENDAR