BEGIN:VCALENDAR
VERSION:2.0
PRODID:GlueUp
CALSCALE:GREGORIAN
BEGIN:VTIMEZONE
TZID:UTC
BEGIN:STANDARD
DTSTART:19700101T000000
TZOFFSETFROM:+0000
TZOFFSETTO:+0000
TZNAME:UTC
END:STANDARD
END:VTIMEZONE
BEGIN:VEVENT
TZ:+00
ORGANIZER;CN=Techsupport:MAILTO:web@houses.ru
UID:2029-1776799590@https://app.glueup.ru
DTSTAMP:20260421T192630Z
DTSTART:20220316T210001Z
DTEND:20220319T210001Z
SUMMARY:Beautiful Houses. Spring
DESCRIPTION:Beautiful Houses. Spring by Медиа-выставочный холдинг «Красивые дома»\n\nMar 17 - 20, 2022(GMT+3)\n\nFor more information, click here: https://app.glueup.ru/my/events/2029
LOCATION:«Crocus Expo» - Moscow
BEGIN:VALARM
TRIGGER:-PT48H
REPEAT:4
DURATION:PT30M
ACTION:DISPLAY
END:VALARM
END:VEVENT
END:VCALENDAR