BEGIN:VCALENDAR
VERSION:2.0
PRODID:GlueUp
CALSCALE:GREGORIAN
BEGIN:VTIMEZONE
TZID:UTC
BEGIN:STANDARD
DTSTART:19700101T000000
TZOFFSETFROM:+0000
TZOFFSETTO:+0000
TZNAME:UTC
END:STANDARD
END:VTIMEZONE
BEGIN:VEVENT
TZ:+00
ORGANIZER;CN=Техническая поддержка:MAILTO:web@houses.ru
UID:2964-1776934068@https://app.glueup.ru
DTSTAMP:20260423T084748Z
DTSTART:20230419T210001Z
DTEND:20230422T210001Z
SUMMARY:Красивые дома. Весна
DESCRIPTION:"Красивые дома. Весна" организовано "Медиа-выставочный холдинг «Красивые дома»"\n\nАпр 20 - 23, 2023(GMT+3)\n\nДля получения дополнительной информации нажмите здесь: https://app.glueup.ru/my/events/2964
LOCATION:МВЦ "Крокус Экспо - Москва
BEGIN:VALARM
TRIGGER:-PT48H
REPEAT:4
DURATION:PT30M
ACTION:DISPLAY
END:VALARM
END:VEVENT
END:VCALENDAR