BEGIN:VCALENDAR
VERSION:2.0
PRODID:GlueUp
CALSCALE:GREGORIAN
BEGIN:VTIMEZONE
TZID:UTC
BEGIN:STANDARD
DTSTART:19700101T000000
TZOFFSETFROM:+0000
TZOFFSETTO:+0000
TZNAME:UTC
END:STANDARD
END:VTIMEZONE
BEGIN:VEVENT
TZ:+00
ORGANIZER;CN=Techsupport:MAILTO:web@houses.ru
UID:3551-1776804688@https://app.glueup.ru
DTSTAMP:20260421T205128Z
DTSTART:20231025T210001Z
DTEND:20231028T210001Z
SUMMARY:BEAUTIFUL HOUSES. RUSSIAN ARCHITECTURE SALON
DESCRIPTION:BEAUTIFUL HOUSES. RUSSIAN ARCHITECTURE SALON by Медиа-выставочный холдинг «Красивые дома»\n\nOct 26 - 29, 2023(GMT+3)\n\nFor more information, click here: https://app.glueup.ru/my/events/3551
LOCATION:«Crocus Expo» - Moscow
BEGIN:VALARM
TRIGGER:-PT48H
REPEAT:4
DURATION:PT30M
ACTION:DISPLAY
END:VALARM
END:VEVENT
END:VCALENDAR